BEGIN:VCALENDAR
VERSION:2.0
PRODID:-//Suomen 505 Liitto - ECPv5.3.1.1//NONSGML v1.0//EN
CALSCALE:GREGORIAN
METHOD:PUBLISH
X-WR-CALNAME:Suomen 505 Liitto
X-ORIGINAL-URL:http://www.int505.fi
X-WR-CALDESC:Tapahtumat Suomen 505 Liitto
BEGIN:VTIMEZONE
TZID:Europe/Helsinki
BEGIN:DAYLIGHT
TZOFFSETFROM:+0200
TZOFFSETTO:+0300
TZNAME:EEST
DTSTART:20220327T010000
END:DAYLIGHT
BEGIN:STANDARD
TZOFFSETFROM:+0300
TZOFFSETTO:+0200
TZNAME:EET
DTSTART:20221030T010000
END:STANDARD
END:VTIMEZONE
BEGIN:VEVENT
DTSTART;TZID=Europe/Helsinki:20220708T080000
DTEND;TZID=Europe/Helsinki:20220710T170000
DTSTAMP:20260423T143340
CREATED:20211230T193429Z
LAST-MODIFIED:20220327T080831Z
UID:7739-1657267200-1657472400@www.int505.fi
SUMMARY:PM Gävle\, Ruotsi
DESCRIPTION:2022 PM ja samalla Ruotsin SM-kisat pidetään Gävlessä 8-10.7.2022. Täältä kisasivuille! \nKilpailun ohjelma alla\, huomioi riittävä määrä tarjoilua. Lisäksi vesiltä saavuttaessa tarjolla kylmää juomaa: \nThursday 7th July\nRegistration and Measurement\, safety inspection 16:00 ~ 19:00 \nFriday 8th July\nBreakfast at GSS clubhouse 07:00 ~ 09:00\nRegistration and Measurement\, safety inspection 08:00 ~ 09:30\nTeams briefing 09:30\nTime for the first warning signal 10:55\nOpening ceremony Approx. 19.00 \nSaturday 9th July\nBreakfast at GSS clubhouse 07:00 ~ 09:00\nTime for the first warning signal 10:55\nRegatta dinner in GSS Clubhouse 19:00 \nSunday 10th July\nBreakfast at GSS clubhouse 07:00 ~ 09:00\nTime for the first warning signal 09:55\nNo warning signal will be given after 15.00 \nKilpailukutsu löytyy täältä: \nNotice of Race \nIlmoittautuminen: No Emission Race \, Nordic and Swedish Open Championship 505 (sailarena.com) \n\nhttps://www.tomtebo.se/GSS/NER2022/NER%20video%20(mars2022).mp4
URL:http://www.int505.fi/event/pm-gavle-ruotsi/
ATTACH;FMTTYPE=image/png:http://www.int505.fi/wp-content/uploads/2021/12/Nayttokuva-2022-03-27-104545.png
END:VEVENT
END:VCALENDAR