BEGIN:VCALENDAR
VERSION:2.0
PRODID:-//Suomen 505 Liitto - ECPv5.3.1.1//NONSGML v1.0//EN
CALSCALE:GREGORIAN
METHOD:PUBLISH
X-WR-CALNAME:Suomen 505 Liitto
X-ORIGINAL-URL:http://www.int505.fi
X-WR-CALDESC:Tapahtumat Suomen 505 Liitto
BEGIN:VTIMEZONE
TZID:Europe/Helsinki
BEGIN:DAYLIGHT
TZOFFSETFROM:+0200
TZOFFSETTO:+0300
TZNAME:EEST
DTSTART:20250330T010000
END:DAYLIGHT
BEGIN:STANDARD
TZOFFSETFROM:+0300
TZOFFSETTO:+0200
TZNAME:EET
DTSTART:20251026T010000
END:STANDARD
END:VTIMEZONE
BEGIN:VEVENT
DTSTART;TZID=Europe/Helsinki:20251022T080000
DTEND;TZID=Europe/Helsinki:20251025T170000
DTSTAMP:20260423T200433
CREATED:20241212T181130Z
LAST-MODIFIED:20241212T181130Z
UID:8677-1761120000-1761411600@www.int505.fi
SUMMARY:European Championship LÉstartit\, Espanja
DESCRIPTION:
URL:http://www.int505.fi/event/european-championship-lestartit-espanja/
END:VEVENT
END:VCALENDAR