BEGIN:VCALENDAR
VERSION:2.0
PRODID:-//Suomen 505 Liitto - ECPv5.3.1.1//NONSGML v1.0//EN
CALSCALE:GREGORIAN
METHOD:PUBLISH
X-WR-CALNAME:Suomen 505 Liitto
X-ORIGINAL-URL:http://www.int505.fi
X-WR-CALDESC:Tapahtumat Suomen 505 Liitto
BEGIN:VTIMEZONE
TZID:Europe/Helsinki
BEGIN:DAYLIGHT
TZOFFSETFROM:+0200
TZOFFSETTO:+0300
TZNAME:EEST
DTSTART:20220327T010000
END:DAYLIGHT
BEGIN:STANDARD
TZOFFSETFROM:+0300
TZOFFSETTO:+0200
TZNAME:EET
DTSTART:20221030T010000
END:STANDARD
END:VTIMEZONE
BEGIN:VEVENT
DTSTART;TZID=Europe/Helsinki:20220603T080000
DTEND;TZID=Europe/Helsinki:20220605T170000
DTSTAMP:20260423T200309
CREATED:20211230T192902Z
LAST-MODIFIED:20211230T192902Z
UID:7733-1654243200-1654448400@www.int505.fi
SUMMARY:Eurocup 2 / Riva del Garda
DESCRIPTION:
URL:http://www.int505.fi/event/eurocup-2-riva-del-garda/
END:VEVENT
END:VCALENDAR