BEGIN:VCALENDAR
VERSION:2.0
PRODID:-//Suomen 505 Liitto - ECPv5.3.1.1//NONSGML v1.0//EN
CALSCALE:GREGORIAN
METHOD:PUBLISH
X-WR-CALNAME:Suomen 505 Liitto
X-ORIGINAL-URL:http://www.int505.fi
X-WR-CALDESC:Tapahtumat Suomen 505 Liitto
BEGIN:VTIMEZONE
TZID:Europe/Helsinki
BEGIN:DAYLIGHT
TZOFFSETFROM:+0200
TZOFFSETTO:+0300
TZNAME:EEST
DTSTART:20260329T010000
END:DAYLIGHT
BEGIN:STANDARD
TZOFFSETFROM:+0300
TZOFFSETTO:+0200
TZNAME:EET
DTSTART:20261025T010000
END:STANDARD
END:VTIMEZONE
BEGIN:VEVENT
DTSTART;TZID=Europe/Helsinki:20260514T080000
DTEND;TZID=Europe/Helsinki:20260516T170000
DTSTAMP:20260423T200222
CREATED:20260201T141149Z
LAST-MODIFIED:20260201T141149Z
UID:8922-1778745600-1778950800@www.int505.fi
SUMMARY:Eurocup 2 Garda (ITA)
DESCRIPTION:
URL:http://www.int505.fi/event/eurocup-2-garda-ita/
END:VEVENT
END:VCALENDAR