BEGIN:VCALENDAR
VERSION:2.0
PRODID:-//Suomen 505 Liitto - ECPv5.3.1.1//NONSGML v1.0//EN
CALSCALE:GREGORIAN
METHOD:PUBLISH
X-WR-CALNAME:Suomen 505 Liitto
X-ORIGINAL-URL:http://www.int505.fi
X-WR-CALDESC:Tapahtumat Suomen 505 Liitto
BEGIN:VTIMEZONE
TZID:Europe/Helsinki
BEGIN:DAYLIGHT
TZOFFSETFROM:+0200
TZOFFSETTO:+0300
TZNAME:EEST
DTSTART:20260329T010000
END:DAYLIGHT
BEGIN:STANDARD
TZOFFSETFROM:+0300
TZOFFSETTO:+0200
TZNAME:EET
DTSTART:20261025T010000
END:STANDARD
END:VTIMEZONE
BEGIN:VEVENT
DTSTART;TZID=Europe/Helsinki:20260403T080000
DTEND;TZID=Europe/Helsinki:20260405T170000
DTSTAMP:20260423T200555
CREATED:20260201T141108Z
LAST-MODIFIED:20260201T141108Z
UID:8920-1775203200-1775408400@www.int505.fi
SUMMARY:Eurocup 1 La Rochelle (FRA)
DESCRIPTION:
URL:http://www.int505.fi/event/eurocup-1-la-rochelle-fra/
END:VEVENT
END:VCALENDAR